BEGIN:VCALENDAR
VERSION:2.0
PRODID:-//wp-events-plugin.com//7.2.3.1//EN
TZID:America/New_York
X-WR-TIMEZONE:America/New_York
BEGIN:VEVENT
UID:14@dianaleigh.com
DTSTART;TZID=America/New_York:20250731T173000
DTEND;TZID=America/New_York:20250731T193000
DTSTAMP:20250612T232312Z
URL:https://dianaleigh.com/events/silver-thread-winegarden-2/
SUMMARY:Silver Thread Winegarden
DESCRIPTION:The Diana Leigh Trio returns to this lovely winery! With Jerry 
 Hilliker and Stu Z. In the former Dano's location overlooking Seneca Lake.
  
LOCATION:Silver Thread Winegarden\, 9564 NY Route 414\, Lodi\, NY\, https:/
 /silverthreadwine.com\, United States
X-APPLE-STRUCTURED-LOCATION;VALUE=URI;X-ADDRESS=9564 NY Route 414\, Lodi\, 
 NY\, https://silverthreadwine.com\, United States;X-APPLE-RADIUS=100;X-TIT
 LE=Silver Thread Winegarden:geo:0,0
END:VEVENT
BEGIN:VTIMEZONE
TZID:America/New_York
X-LIC-LOCATION:America/New_York
BEGIN:DAYLIGHT
DTSTART:20250309T030000
TZOFFSETFROM:-0500
TZOFFSETTO:-0400
TZNAME:EDT
END:DAYLIGHT
END:VTIMEZONE
END:VCALENDAR