BEGIN:VCALENDAR
VERSION:2.0
PRODID:-//wp-events-plugin.com//7.2.3.1//EN
TZID:America/New_York
X-WR-TIMEZONE:America/New_York
BEGIN:VEVENT
UID:24@dianaleigh.com
DTSTART;TZID=America/New_York:20260429T183000
DTEND;TZID=America/New_York:20260429T203000
DTSTAMP:20260325T194620Z
URL:https://dianaleigh.com/events/starlite-room-6/
SUMMARY:Starlite Room
DESCRIPTION:Diana is the featured guest with Hugh Douglass &amp\; co.\n\n&n
 bsp\;
LOCATION:Starlite Room\, 3018 Lake Rd\, Elmira\, NY\, 14903\, https://www.s
 tarliteroomelmira.com\, United States
X-APPLE-STRUCTURED-LOCATION;VALUE=URI;X-ADDRESS=3018 Lake Rd\, Elmira\, NY\
 , 14903\, https://www.starliteroomelmira.com\, United States;X-APPLE-RADIU
 S=100;X-TITLE=Starlite Room:geo:0,0
END:VEVENT
BEGIN:VTIMEZONE
TZID:America/New_York
X-LIC-LOCATION:America/New_York
BEGIN:DAYLIGHT
DTSTART:20260308T030000
TZOFFSETFROM:-0500
TZOFFSETTO:-0400
TZNAME:EDT
END:DAYLIGHT
END:VTIMEZONE
END:VCALENDAR